BEGIN:VCALENDAR
VERSION:2.0
PRODID:-//Seneca Forever - ECPv6.15.20//NONSGML v1.0//EN
CALSCALE:GREGORIAN
METHOD:PUBLISH
X-WR-CALNAME:Seneca Forever
X-ORIGINAL-URL:https://senecaforever.org
X-WR-CALDESC:Events for Seneca Forever
REFRESH-INTERVAL;VALUE=DURATION:PT1H
X-Robots-Tag:noindex
X-PUBLISHED-TTL:PT1H
BEGIN:VTIMEZONE
TZID:America/Kentucky/Louisville
BEGIN:DAYLIGHT
TZOFFSETFROM:-0500
TZOFFSETTO:-0400
TZNAME:EDT
DTSTART:20230312T070000
END:DAYLIGHT
BEGIN:STANDARD
TZOFFSETFROM:-0400
TZOFFSETTO:-0500
TZNAME:EST
DTSTART:20231105T060000
END:STANDARD
BEGIN:DAYLIGHT
TZOFFSETFROM:-0500
TZOFFSETTO:-0400
TZNAME:EDT
DTSTART:20240310T070000
END:DAYLIGHT
BEGIN:STANDARD
TZOFFSETFROM:-0400
TZOFFSETTO:-0500
TZNAME:EST
DTSTART:20241103T060000
END:STANDARD
BEGIN:DAYLIGHT
TZOFFSETFROM:-0500
TZOFFSETTO:-0400
TZNAME:EDT
DTSTART:20250309T070000
END:DAYLIGHT
BEGIN:STANDARD
TZOFFSETFROM:-0400
TZOFFSETTO:-0500
TZNAME:EST
DTSTART:20251102T060000
END:STANDARD
END:VTIMEZONE
BEGIN:VEVENT
DTSTART;TZID=America/Kentucky/Louisville:20240810T170000
DTEND;TZID=America/Kentucky/Louisville:20240810T210000
DTSTAMP:20260424T155836
CREATED:20240703T182932Z
LAST-MODIFIED:20240703T182932Z
UID:10000002-1723309200-1723323600@senecaforever.org
SUMMARY:Seneca High School Class of 1989 35 Year Reunion
DESCRIPTION:Save the date for the 35th-year reunion of the Seneca High School Class of 1989. The purpose of our Seneca Class of 1989 reunion is to look back at our memories\, celebrate our milestones\, reconnect with former Redskins\, promote a sense of belonging\, and to simply have fun! \nOur 35th-year reunion is a great opportunity for business networking. Seneca Forever! \nThe Class of ’89’s 35th Reunion will be hosted at 1921 Bishop Lane\, Louisville\, KY 40218. A cocktail hour will be held at 5 PM followed by dinner at 6 PM. \nClick here to learn more.
URL:https://senecaforever.org/event/seneca-high-school-class-of-1989-35-year-reunion/
LOCATION:Holiday Inn Express Louisville Airport Expo Center\, 1921 Bishop Lane\, Louisville\, 40218\, United States
END:VEVENT
END:VCALENDAR